BEGIN:VCALENDAR
VERSION:2.0
PRODID:-//Twin Cities Iranian Culture Collective - ECPv6.15.20//NONSGML v1.0//EN
CALSCALE:GREGORIAN
METHOD:PUBLISH
X-WR-CALNAME:Twin Cities Iranian Culture Collective
X-ORIGINAL-URL:https://twincitiesiranianculturefestival.com
X-WR-CALDESC:Events for Twin Cities Iranian Culture Collective
REFRESH-INTERVAL;VALUE=DURATION:PT1H
X-Robots-Tag:noindex
X-PUBLISHED-TTL:PT1H
BEGIN:VTIMEZONE
TZID:UTC
BEGIN:STANDARD
TZOFFSETFROM:+0000
TZOFFSETTO:+0000
TZNAME:UTC
DTSTART:20190101T000000
END:STANDARD
END:VTIMEZONE
BEGIN:VEVENT
DTSTART;TZID=UTC:20200910T173000
DTEND;TZID=UTC:20200910T183000
DTSTAMP:20260425T140751
CREATED:20200819T181514Z
LAST-MODIFIED:20200819T181514Z
UID:1158-1599759000-1599762600@twincitiesiranianculturefestival.com
SUMMARY:Prof. Shaherzad Ahmadi on the History of Iranian Cinema
DESCRIPTION:Zoom link: https://bit.ly/3iSVwZ1\nShaherzad Ahmadi is an assistant professor of history at the University of St. Thomas in St. Paul\, MN. Professor Ahmadi\’s talk will offer a history of Iranian cinema\, beginning with the first talkie\, \”The Lor Girl.\” I will examine the themes that animated Iranian cinema in the Pahlavi period as well as the transformation of the medium in the post-revolutionary period. The lecture asks\, \”How did film express Iran\’s national aspirations\, gender roles\, and class tensions?\” \”Why did film become such an important art form in the post-revolutionary period?\” and \”How did Iranians challenge Hollywood\’s dominance in the industry?
URL:https://twincitiesiranianculturefestival.com/event/prof-shaherzad-ahmadi-on-the-history-of-iranian-cinema/
LOCATION:Online
ATTACH;FMTTYPE=:
END:VEVENT
END:VCALENDAR