BEGIN:VCALENDAR
VERSION:2.0
PRODID:-//Twin Cities Iranian Culture Collective - ECPv6.15.20//NONSGML v1.0//EN
CALSCALE:GREGORIAN
METHOD:PUBLISH
X-WR-CALNAME:Twin Cities Iranian Culture Collective
X-ORIGINAL-URL:https://twincitiesiranianculturefestival.com
X-WR-CALDESC:Events for Twin Cities Iranian Culture Collective
REFRESH-INTERVAL;VALUE=DURATION:PT1H
X-Robots-Tag:noindex
X-PUBLISHED-TTL:PT1H
BEGIN:VTIMEZONE
TZID:UTC
BEGIN:STANDARD
TZOFFSETFROM:+0000
TZOFFSETTO:+0000
TZNAME:UTC
DTSTART:20190101T000000
END:STANDARD
END:VTIMEZONE
BEGIN:VEVENT
DTSTART;TZID=UTC:20200916T173000
DTEND;TZID=UTC:20200916T183000
DTSTAMP:20260425T140750
CREATED:20200819T191822Z
LAST-MODIFIED:20200819T191822Z
UID:1185-1600277400-1600281000@twincitiesiranianculturefestival.com
SUMMARY:Juan Cole on his new translation of The Rubaiyat of Omar Khayyam
DESCRIPTION:https://bit.ly/3h57MoP \n\n\n\n\n\nAuthor reading and talk by Juan Cole\, Professor of History at the University of Michigan.“’To read Juan Cole’s deft\, plain-spoken translation of the Rubáiyát is to find companionship\, to rejoin a thousand-year human conversation about how to endure\, enjoy\, and find a fleeting beauty in everlastingly dire times. The lucid\, cogent and mind-opening Epilogue is a kind of grace\, a gift freely given\, from one of our most astonishing and generous intellects.’”― Michael Chabon\, Pulitzer Prize winner and author of Moonglow (2017)The Rubáiyát of Omar Khayyam: A New Translation from the Persian is available through your local bookstore or Amazon.com.
URL:https://twincitiesiranianculturefestival.com/event/juan-cole-on-his-new-translation-of-the-rubaiyat-of-omar-khayyam/
LOCATION:MN
ATTACH;FMTTYPE=:
END:VEVENT
END:VCALENDAR