BEGIN:VCALENDAR
VERSION:2.0
PRODID:-//Twin Cities Iranian Culture Collective - ECPv6.15.20//NONSGML v1.0//EN
CALSCALE:GREGORIAN
METHOD:PUBLISH
X-WR-CALNAME:Twin Cities Iranian Culture Collective
X-ORIGINAL-URL:https://twincitiesiranianculturefestival.com
X-WR-CALDESC:Events for Twin Cities Iranian Culture Collective
REFRESH-INTERVAL;VALUE=DURATION:PT1H
X-Robots-Tag:noindex
X-PUBLISHED-TTL:PT1H
BEGIN:VTIMEZONE
TZID:America/Chicago
BEGIN:DAYLIGHT
TZOFFSETFROM:-0600
TZOFFSETTO:-0500
TZNAME:CDT
DTSTART:20220313T080000
END:DAYLIGHT
BEGIN:STANDARD
TZOFFSETFROM:-0500
TZOFFSETTO:-0600
TZNAME:CST
DTSTART:20221106T070000
END:STANDARD
BEGIN:DAYLIGHT
TZOFFSETFROM:-0600
TZOFFSETTO:-0500
TZNAME:CDT
DTSTART:20230312T080000
END:DAYLIGHT
BEGIN:STANDARD
TZOFFSETFROM:-0500
TZOFFSETTO:-0600
TZNAME:CST
DTSTART:20231105T070000
END:STANDARD
BEGIN:DAYLIGHT
TZOFFSETFROM:-0600
TZOFFSETTO:-0500
TZNAME:CDT
DTSTART:20240310T080000
END:DAYLIGHT
BEGIN:STANDARD
TZOFFSETFROM:-0500
TZOFFSETTO:-0600
TZNAME:CST
DTSTART:20241103T070000
END:STANDARD
END:VTIMEZONE
BEGIN:VEVENT
DTSTART;TZID=America/Chicago:20230611T180000
DTEND;TZID=America/Chicago:20230611T200000
DTSTAMP:20260423T122422
CREATED:20230224T020903Z
LAST-MODIFIED:20230522T150828Z
UID:10866-1686506400-1686513600@twincitiesiranianculturefestival.com
SUMMARY:Persian Inspirations Concert
DESCRIPTION:Music and dance from the Persian world presented by the TC Iranian Culture Collective\, in Roseville’s Central Park! This year’s concert features singer Sear Azizi\, singing popular songs in Farsi\, Dari and Tajik\, accompanied by Rachel Molloy\, percussion\, and Milan Ebrahimi\, guitar. Plus a dance performance by Parisa Naini and the Shirzan Dance Collective. \nBring blankets\, lawn chairs\, picnic baskets\, grab a spot and enjoy the sights and sounds at this free event\, part of the Creative Crossroads series that features a different world region each Sunday evening.
URL:https://twincitiesiranianculturefestival.com/event/iranian-inspirations-concert/
LOCATION:Rog Amphitheater\, Roseville\, MN
ATTACH;FMTTYPE=image/png:https://twincitiesiranianculturefestival.com/wp-content/uploads/2023/05/Screenshot-2023-05-22-at-10.00.46-AM.png
END:VEVENT
END:VCALENDAR